Workbook

Sheet INSTRUCCIONES
B8: INSTRUCCIONES para cumplimentar las hojas Excel y calcular los objetivos de Estabilidad Presupuestaria, Regla de Gasto y Límite de Deuda en la Liquidación del Presupuesto de 2025. Se han diseñado pensando que la Entidad es única (no tiene entes dependientes), pues es el caso de la mayoría de los municipios de la provincia. Si existen entes dependientes, consultar notas incluidas en el modelo de informe
B12: PROCEDER POR EL SIGUIENTE ORDEN | C12: PESTAÑA | D12: CUMPLIMENTAR | I12: NOTA COMÚN PARA TODAS LAS PESTAÑAS: MUY IMPORTANTE: Aunque no se incluyan datos en alguna celda NO eliminar celdas ,pues de hacerlo los cálculos serán incorrectos. Por ejemplo: De no hacerse algún Ajuste SEC, no se introducen datos, pero no se elimina.
B13: 1º | C13: LIQUIDACION 2025 | D13: Liquidación de Ingresos y Gastos 2025. Cumplimentar los importes resumidos por capítulos. Cumplimentar los importes de los conceptos de gastos por intereses de deuda. Cumplimentar celdas en azul.
B15: 2º | C15: AJUSTES ESTABILIDAD | D15: En este modelo sólo se contemplan los ajustes más utilizados. En esta pestaña se presentan separados los ajustes al Estado de Ingresos y los ajustes al Estado de Gastos. Para su cálculo se cumplimentarán los datos sombreados en azul
B17: 3º | C17: ESTABILIDAD PRESUPUESSTARIA | D17: En esta pestaña se recogen automáticamente los datos correspondientes a Liquidación Pto. de ingresos y Pto de gastos de 2025 que se han introducido en la 1ª pestaña, así como los ajustes realizados en la 2ª pestaña. Si se realizan otros ajustes (distintos a los que se incluyen en este modelo), introducir el importe en la casilla que proceda. Automáticamente nos indicará el Cumplimiento o Incumplimiento de la Estabilidad.
B18: 4º | C18: FORMULARIO F.3.2. | D18: Se mostrará cumplimentado el Formulario F.3.2
B19: 5º | C19: DATOS Y AJUSTES PARA EL CÁLCULO DE LA REGLA DE GASTO | D19: En esta pestaña respecto a: La liquidación 2024, se deben introducir los datos que consten en el informe de dicha liquidación , es conveniente consultar los datos que al respecto se remitieron al MINHAFP (aquí, no se han sombreado casillas en azul, pues dependerá de cada Entidad introducir los importes en las casillas que procedan) La Liquidación 2025 se incluirán: los ajustes SEC , los gastos financiados con fondos finalistas UE o AAPP, las IFS 2025, los aum/dismin recaudación Liquidación 2025. (cumplimentarlos datos sombreados en azul. En este modelo sólo se contemplan los ajustes Sec mas frecuentes.
B20: 6º | C20: REGLA DE GASTO | D20: En esta pestaña se recogen automáticamente los datos que se han introducido en la pestaña anterior. Si se realizan otros ajustes (distintos a los que se incluyen en este modelo), introducir el importe en la casilla que proceda. Automáticamente nos indicará el Cumplimiento o Incumplimiento de la Regla de gasto
B21: 7º | C21: FORMULARIO F.3.3 | D21: Se mostrará cumplimentado el Formulario F.3.3
B22: 8º | C22: NIVEL DEUDA | D22: Cumplimentar datos sombreados en azul
B23: 9º | C23: FORMULARIO F.3.4 | D23: Se ha incluido este formulario, para quienes quieran cumplimentarlo también aquí. Pero, se deberán introducir los datos manualmente .

Sheet LIQUIDACION 2025
F3: MUY IMPORTANTE: Aunque no se incluyan datos en alguna celda NO eliminar celdas ,pues de hacerlo los cálculos serán incorrectos
E6: Este modelo esta diseñado para el supuesto de que la Entidad es única (sin entidades dependientes). Si existen entes dependientes consultar notas incluidas en el modelo de informe
C9: LIQUIDACION 2025 | K9: GASTOS DEL CAP.3 a incluir en el cálculo de la Regla de Gasto
B10: Cap. | C10: INGRESOS | H10: Derechos Reconocidos Netos 2025 | K10: CONCEPTO | L10: Obligaciones Reconocidas Netas 2025
B11: 1 | C11: Impuestos directos | K11: 301
B12: 2 | C12: Impuestos indirectos | K12: 311
B13: 3 | C13: Tasas y otros ingresos | K13: 321
B14: 4 | C14: Transferencias corrientes | K14: 331
B15: 5 | C15: Ingresos patrimoniales | K15: 357
B16: 6 | C16: Enajenación de inversiones reales | K16: Total | L16: =SUM(L11:L15) -> 0
B17: 7 | C17: Transferencias de capital
B18: 8 | C18: Activos financieros
B19: 9 | C19: Pasivos financieros
B20: Total Ingresos | H20: =SUM(H11:H19) -> 0
C21: LIQUIDACION 2025
B22: Cap. | C22: GASTOS | H22: Obligaciones reconocidas Netas 2025
B23: 1 | C23: Gastos de personal
B24: 2 | C24: Gastos en bienes corrientes y servicios
B25: 3 | C25: Gastos financieros
B26: 4 | C26: Transferencias corrientes
B27: 5 | C27: Fondo de contingencia y Otros imprevistos
B28: 6 | C28: Inversiones reales
B29: 7 | C29: Transferencias de capital
B30: 8 | C30: Activos financieros
B31: 9 | C31: Pasivos financieros | H31: 0
B32: Total Gastos | H32: =SUM(H23:H31) -> 0

Sheet AJUSTES ESTABILIDAD
D3: MUY IMPORTANTE: Aunque no se incluyan datos en alguna celda NO eliminar celdas ,pues de hacerlo los cálculos serán incorrectos
B6: Este modelo esta diseñado para el supuesto de que la Entidad es única (sin entidades dependientes). Si la Entidad tiene entes dependientes, consultar notas incluidas en el modelo de informe En este modelo nos limitamos a los AJSUTES SEC más frecuentes. Para realizar otros ajustes consultar Manual de Cálculo del déficit en Contabilidad Nacional adaptado a las Corporaciones Locales, elaborado por la I.G.A.E) e incluirlos en las celdas correspondientes de la siguiente pestaña " Estabilidad Presupuestaria".
C8: AJUSTES EN EL ESTADO DE INGRESOS LIQ. 2025 | K8: AJUSTES EN EL ESTADO DE GASTOS LIQ. 2025
B10: AJUSTE RECAUDACIÓN INGRESOS CAPITULOS 1 a 3
K11: AJUSTE POR INTERESES (Cap. 3 )
B12: Capítulos | C12: Derechos Reconocidos Netos 2025 | D12: Recaudación líquida | F12: Total Recaudación | G12: Ajuste
D13: Ejercicio corriente 2025 | E13: Ejercicios cerrados | K13: Intereses devengados en 2024 con vencimiento en 2025 | M13: Intereses devengados en 2024 con vencimiento en 2025 | O13: Ajuste
B14: 1 | C14: ='LIQUIDACION 2025'!H11 -> 0 | D14: 0 | E14: 0 | F14: =SUM(D14:E14) -> 0 | G14: =F14-C14 -> 0 | O14: =-L14+N14 -> 0
B15: 2 | C15: ='LIQUIDACION 2025'!H12 -> 0 | D15: 0 | E15: 0 | F15: =SUM(D15:E15) -> 0 | G15: =F15-C15 -> 0
B16: 3 | C16: ='LIQUIDACION 2025'!H13 -> 0 | D16: 0 | E16: 0 | F16: =SUM(D16:E16) -> 0 | G16: =F16-C16 -> 0
K17: AJUSTE POR GASTOS PENDIENTES DE APLICAR A PRESUPUESTO
B18: AJUSTE POR LA DEVOLUCIÓN LIQUIDACION NEGATIVA PIE
B19: (Consignar el importe reintegrado en 2025 correspondiente a la liquidación negativa de la PIE del año que corresponda) | L19: Saldo a 1 de enero de 2025 | M19: Saldo a 31 de diciembre de 2025 | N19: Diferencia saldo 2025
K20: Cuenta 413 (Acreedores por operaciones pendientes de aplicar al presupuesto)
C21: Ajuste Devolución liquidación PIE 2008
C22: Ajuste Devolución liquidación PIE 2009 | N22: =+M22-L22 -> 0
C23: Ajuste Devolución liquidación PIE ejercicios distintos a 2008 y 2009 | K23: Cuenta 555 (Pagos pendientes de aplicación)
N24: =+M24-L24 -> 0
K25: TOTAL AJUSTE | N25: =SUM(N22:N24) -> 0
B26: AJUSTE POR DEVOLUCION DE INGRESOS PENDIENTES DE APLICAR A PRESUPUESTO.
C28: Cuenta 418 (Acreedores por devoluciones de ingresos) | D28: Saldo a 1 de enero de 2025 | F28: Saldo a 31 de diciembre de 2025 | H28: Ajuste
H29: =E29-G29 -> 0

Sheet ESTABILIDAD PRESUPUESTARIA
C3: MUY IMPORTANTE: Aunque no se incluyan datos en alguna celda NO eliminar celdas ,pues de hacerlo los cálculos serán incorrectos
B6: En este modelo se recogen los datos incluidos en las pestañas anteriores para el supuesto de que la Entidad es única (sin entidades dependientes) Si existen entes dependientes consultar notas incluidas en el modelo de informe
B9: CÁLCULO DE LA CAPACIDAD / NECESIDAD DE FINANCIACIÓN DE LA LIQUIDACION DEL PRESUPUESTO 2025
B11: LIQUIDACION DEL PRESUPUESTO 2025
B12: a) Suma de los Derechos Reconocidos Capítulos 1 a 7 de Ingresos | C12: =SUM('LIQUIDACION 2025'!H11:H17) -> 0
B13: b) Suma de las Obligaciones Reconocidas Capítulos 1 a 7 de Gastos | C13: =SUM('LIQUIDACION 2025'!H23:H29) -> 0
B14: c) Total capacidad/necesidad de financiación antes de ajustes (a-b) | C14: =C12-C13 -> 0
B15: AJUSTES
B16: Ajuste por recaudación ingresos Capítulo 1 | C16: ='AJUSTES ESTABILIDAD'!G14 -> 0
B17: Ajuste por recaudación ingresos Capítulo 2 | C17: ='AJUSTES ESTABILIDAD'!G15 -> 0
B18: Ajuste por recaudación ingresos Capítulo 3 | C18: ='AJUSTES ESTABILIDAD'!G16 -> 0
B19: (+) Ajuste por liquidación PTE - 2008 | C19: ='AJUSTES ESTABILIDAD'!G21 -> 0
B20: (+) Ajuste por liquidación PTE - 2009 | C20: ='AJUSTES ESTABILIDAD'!G22 -> 0
B21: (+) Ajustes por liquidación PTE ejercicios distintos a 2008 y 2009 | C21: ='AJUSTES ESTABILIDAD'!G23 -> 0
B22: Intereses | C22: =-'AJUSTES ESTABILIDAD'!O14 -> 0
B23: Diferencias de cambio
B24: (+/-) Ajuste por grado de ejecución del gasto | C24: No procede en Liquidación
B25: Inversiones realizadas por Cuenta Corporación Local (2)
B26: Ingresos por Ventas de Acciones (privatizaciones)
B27: Dividendos y Participación en beneficios
B28: Ingresos obtenidos del presupuesto de la Unión Europea
B29: Operaciones de permuta financiera (SWAPS)
B30: Operaciones de reintegro y ejecución de avales
B31: Aportaciones de Capital
B32: Asunción y cancelación de deudas
B33: Gastos realizados en el ejercicio pendientes de aplicar a presupuesto | C33: =-'AJUSTES ESTABILIDAD'!N25 -> 0
B34: Adquisiciones con pago aplazado
B35: Arrendamiento financiero
B36: Contratos de asociación publico privada (APP's)
B37: Inversiones realizadas por cuenta de otra Administración Publica (3)
B38: Prestamos
B39: Devoluciones de ingresos pendientes de aplicar a presupuesto | C39: ='AJUSTES ESTABILIDAD'!H29 -> 0
B40: Consolidación de transferencia con otras Administraciones Publicas
B41: Otros (1)
B42: d) Total ajustes al Presupuesto | C42: =SUM(C16:C41) -> 0
B43: e) Capacidad/Necesidad de financiación (c +/-d) | C43: =C14+C42 -> 0
B44: =IF(C43>= 0,"CUMPLE","INCUMPLE ") -> CUMPLE
B46: Formulario F.1.1.B1.del documento elaborado por la Subdirección General de relaciones financieras con las Entidades Locales
B47: (1) Si se incluye este ajuste, en "Observaciones", se hará una breve explicación del contenido de este ajuste.
B48: 2) Ajuste por inversiones realizadas por una entidad no integrada en la Corporación Local para la entidad local
...

Sheet Formulario F.3.2
D2: Se debe tener en cuenta que los datos aparecen cumplimentados automáticamente porque se recogen de las pestañas anteriores y se parte de que la Entidad es única (sin entes dependientes). Si existen entes dependientes se deben cumplimentar los datos manualmente.
D3: MUY IMPORTANTE: Aunque no se incluyan datos en alguna celda NO eliminar celdas ,pues de hacerlo los cálculos serán incorrectos
B4: F.3.2.- Informe actualizado Evaluación. Resultado Estabilidad Presupuestaria Grupo Administración Publica
B6: LIQUIDACION DE LOS PRESUPUESTOS DE LAS ENTIDADES LOCALES PARA 2025
B8: (en el caso de que la Entidad este sometida a Contabilidad Empresarial el Ingreso y Gasto no Financiero ya es directamente el computable a efectos del Sistema Europeo de Cuentas) - no aplican ajustes
C10: Estabilidad Presupuestaria
C11: Ingreso No financiero1 | D11: Gasto No financiero1 | E11: Ajuste S.Europeo Cuentas2 | G11: Capac/Nec. Financ. Entidad
B12: Entidad | E12: Ajustes propia Entidad | F12: Ajustes por operaciones internas
B13: Ayuntamiento de______ | C13: ='ESTABILIDAD PRESUPUESTARIA'!C12 -> 0 | D13: ='ESTABILIDAD PRESUPUESTARIA'!C13 -> 0 | E13: ='ESTABILIDAD PRESUPUESTARIA'!C42 -> 0 | G13: =C13-D13+E13+F13 -> 0
B14: Entidad presupuesto limitativo
B15: Entes con contabilidad empresarial
B26: (1) Si la entidad tiene presupuesto limitativo - corresponderá con los gastos e ingresos no financieros de la estimación de derechos/obligaciones netos a 31/12/2025 (Cap. 1 a 7) Si la entidad tiene contabilidad Empresarial – corresponderá con los gastos e ingresos no financieros (ajustados al SEC)
B27: (2) Solo aparecerá cumplimentado en el caso de Entidad con presupuesto limitativo.
B30: Capacidad/ Necesidad Financiación de la Corporación Local | G30: =G13 -> 0
B31: Objetivo en 2025 de Capacidad/ Necesidad Financiación de la Corporación contemplado en el Plan Económico Financiero aprobado | H31: (1)
B34: CUMPLIMIENTO O INCUMPLIMIENTO DEL OBJETIVO DE ESTABILIDAD PRESUPUESTARIA DE ACUERDO CON LO 2/2012 | G34: =IF(G30>=0,"CUMPLE","INCUMPLE ") -> CUMPLE
B37: Observaciones y/o consideraciones al Cumplimiento/Incumplimiento del Objetivo de Estabilidad Presupuestaria del Grupo de Entidades que están dentro del Sector Administraciones Publicas de la Corporación Local :
A39: Notas
B40: Los campos rellenos los cumplimenta el sistema, y no son modificables por el usuario.
A41: (1) | B41: Esta línea solo aparecerá en el formulario si la Corporación tiene aprobado un Plan Económico Financiero con vigencia en 2016

Sheet DATOS Y AJUSTES REGLA DE GASTO
E4: MUY IMPORTANTE: Aunque no se incluyan datos en alguna celda NO eliminar celdas ,pues de hacerlo los cálculos serán incorrectos
B7: Este modelo esta diseñado para el supuesto de que la Entidad es única (sin entidades dependientes). Si la Entidad tiene entes dependientes, consultar notas incluidas en el modelo de informe Respecto a los ajustes SEC , en este modelo se contemplan aquellos que se estiman más frecuentes. Por ello, para realizar otros ajustes SEC, se debe consultar: • Guía para la determinación de la Regla de Gasto del artículo 12 de la LOEPSF para corporaciones locales, 3ª edición, IGAE.
C9: DATOS GASTO COMUPTABLE LIQ. 2024 Y EN SU CASO GASTO INVERSIONES FINANCIERAMENTE SOSTENIBLES 2024 | J9: DATOS PARA CALCULAR REGLA DE GASTO LIQUIDACION 2025
C13: Concepto | D13: Liquidación 2024 Obligaciones reconocidas
C14: Suma de los Capítulos 1 a 7 de gastos | D14: 0
C15: Ajustes calculo empleos no financieros según el SEC | D15: =SUM(D16:D29) -> 0 | I15: AJUSTE SEC POR GASTOS PENDIENTES DE APLICAR A PRESUPUESTO EN LIQ. 2025
C16: (-) Enajenación de terrenos y demás inversiones reales. | D16: 0.00
C17: (+/-) Inversiones realizadas por cuenta de una Corporación Local | I17: Este ajuste se realizó con motivo de la evaluación de estabilidad presupuestaria. En la siguiente pestaña "Regla de gasto" este dato se captura automáticamente.
C18: (+/-) Ejecución de Avales.
C19: (+) Aportaciones de capital.
C20: (+/-) Asunción y cancelación de deudas.
C21: (+/-) Gastos realizados en el ejercicio pendientes de aplicar al presupuesto. | I21: Disminución gastos financiados con fondos finalistas de la UE o AAPP en LIQ.2025
C22: (+/-) Pagos a socios privados realizados en el marco de las Asociaciones público privadas.
C23: (+/-) Adquisiciones con pago aplazado. | I23: (-) Gasto financiado con fondos finalistas procedentes de la Unión Europea o de otras Administraciones públicas | K23: =SUM(K24:K28) -> 0
C24: (+/-) Arrendamiento financiero. | I24: (-)Unión Europea
C25: (+) Préstamos. | I25: (-)Estado
C26: (-) Mecanismo extraordinario de pago a proveedores 2013 | I26: (-)Comunidad Autónoma
C27: (-) Inversiones realizadas por la Corporación Local por cuenta de otra Administración Pública | I27: (-)Diputaciones
C28: (+/-) Ajuste por grado de ejecución del gasto | D28: No procede en liquidación | I28: (-)Otras Administraciones Publicas
C29: Otros (Especificar) | D29: 0
C30: Empleos no financieros (Cap. 1 a 7) términos SEC excepto intereses de la deuda | D30: =D14+D15 -> 0
C31: (-) Pagos por transferencias (y otras operaciones internas) a otras entidades que integran la Corporación Local | I31: DISMINUCION IMPORTE INVERSIONES FINANCIERAMENTE SOSTENIBLES 2025 QUE SE AJUSTEN A LO DISPUESTO EN LA DA 6ª DE LA LO 2/2012 Y DA 16ª DEL TRLRHL:
C32: (-) Gasto financiado con fondos finalistas procedentes de la Unión Europea o de otras Administraciones públicas | D32: =SUM(D33:D37) -> 0
C33: (-)Unión Europea | I33: Inversiones financieramente sostenibles ejercicio 2025
C34: (-)Estado
C35: (-)Comunidad Autónoma
C36: (-)Diputaciones
C37: (-)Otras Administraciones Publicas | I37: (-/+) Incrementos/disminuciones de recaudación por cambios normativos considerados en LIQ. 2025
C38: Total de Gasto computable del ejercicio | D38: Gasto computable 2024 | I38: (+)Detalle de incrementos:
D39: =SUM(D30:D32) -> 0 | I39: (-) Detalle de disminuciones:
C40: (-) Inversiones Financieramente sostenibles(IFS) 2024 | D40: IFS 2024
C42: Total de Gasto computable del ejercicio, ajustado IFS | D42: Gasto computable 2024, ajustado IFS
D43: =D39+D41 -> 0

Sheet REGLA DE GASTO
E4: MUY IMPORTANTE: Aunque no se incluyan datos en alguna celda NO eliminar celdas ,pues de hacerlo los cálculos serán incorrectos
D6: En este modelo se recogen los datos incluidos en las pestañas anteriores para el supuesto de que la Entidad es única (sin entidades dependientes) Si la Entidad tiene entes dependientes, consultar notas incluidas en el modelo de informe
D9: CALCULO REGLA DEL GASTO
D11: Concepto | E11: Liquidación 2024 Obligaciones reconocidas (1) | F11: Liquidación 2025 Obligaciones reconocidas
D12: Suma de los Capítulos 1 a 7 de gastos (2) | E12: ='DATOS Y AJUSTES REGLA DE GASTO'!D14 -> 0 | F12: =SUM('LIQUIDACION 2025'!H23:H29)-'LIQUIDACION 2025'!H25+'LIQUIDACION 2025'!L16 -> 0
D13: Ajustes calculo empleos no financieros según el SEC | E13: ='DATOS Y AJUSTES REGLA DE GASTO'!D15 -> 0 | F13: =SUM(F14:F27) -> 0
D14: (-) Enajenación de terrenos y demás inversiones reales. | E14: ='DATOS Y AJUSTES REGLA DE GASTO'!D16 -> 0.00
D15: (+/-) Inversiones realizadas por cuenta de una Corporación Local (5) | E15: ='DATOS Y AJUSTES REGLA DE GASTO'!D17 -> 0
D16: (+/-) Ejecución de Avales. | E16: ='DATOS Y AJUSTES REGLA DE GASTO'!D18 -> 0
D17: (+) Aportaciones de capital. | E17: ='DATOS Y AJUSTES REGLA DE GASTO'!D19 -> 0
D18: (+/-) Asunción y cancelación de deudas. | E18: ='DATOS Y AJUSTES REGLA DE GASTO'!D20 -> 0
D19: (+/-) Gastos realizados en el ejercicio pendientes de aplicar al presupuesto. | E19: ='DATOS Y AJUSTES REGLA DE GASTO'!D21 -> 0 | F19: ='AJUSTES ESTABILIDAD'!N25 -> 0
D20: (+/-) Pagos a socios privados realizados en el marco de las Asociaciones público privadas. | E20: ='DATOS Y AJUSTES REGLA DE GASTO'!D22 -> 0
D21: (+/-) Adquisiciones con pago aplazado. | E21: ='DATOS Y AJUSTES REGLA DE GASTO'!D23 -> 0
D22: (+/-) Arrendamiento financiero. | E22: ='DATOS Y AJUSTES REGLA DE GASTO'!D24 -> 0
D23: (+) Préstamos. | E23: ='DATOS Y AJUSTES REGLA DE GASTO'!D25 -> 0
D24: (-) Mecanismo extraordinario de pago a proveedores 2013 | E24: ='DATOS Y AJUSTES REGLA DE GASTO'!D26 -> 0
D25: (-) Inversiones realizadas por la Corporación Local por cuenta de otra Administración Pública (6) | E25: ='DATOS Y AJUSTES REGLA DE GASTO'!D27 -> 0
D26: (+/-) Ajuste por grado de ejecución del gasto | E26: No procede en liquidación | F26: No procede en liquidación
D27: Otros (Especificar)(4) | E27: ='DATOS Y AJUSTES REGLA DE GASTO'!D29 -> 0
D28: Empleos no financieros (Cap. 1 a 7) términos SEC excepto intereses de la deuda | E28: ='DATOS Y AJUSTES REGLA DE GASTO'!D30 -> 0 | F28: =(F12+F13) -> 0
D29: (-) Pagos por transferencias (y otras operaciones internas) a otras entidades que integran la Corporación Local (3) | E29: ='DATOS Y AJUSTES REGLA DE GASTO'!D31 -> 0
D30: (-) Gasto financiado con fondos finalistas procedentes de la Unión Europea o de otras Administraciones públicas | E30: ='DATOS Y AJUSTES REGLA DE GASTO'!D32 -> 0 | F30: ='DATOS Y AJUSTES REGLA DE GASTO'!K23 -> 0
D31: (-)Unión Europea | E31: ='DATOS Y AJUSTES REGLA DE GASTO'!D33 -> 0 | F31: ='DATOS Y AJUSTES REGLA DE GASTO'!K24 -> 0
D32: (-)Estado | E32: ='DATOS Y AJUSTES REGLA DE GASTO'!D34 -> 0 | F32: ='DATOS Y AJUSTES REGLA DE GASTO'!K25 -> 0
D33: (-)Comunidad Autónoma | E33: ='DATOS Y AJUSTES REGLA DE GASTO'!D35 -> 0 | F33: ='DATOS Y AJUSTES REGLA DE GASTO'!K26 -> 0
D34: (-)Diputaciones | E34: ='DATOS Y AJUSTES REGLA DE GASTO'!D36 -> 0 | F34: ='DATOS Y AJUSTES REGLA DE GASTO'!K27 -> 0
D35: (-)Otras Administraciones Publicas | E35: ='DATOS Y AJUSTES REGLA DE GASTO'!D37 -> 0 | F35: ='DATOS Y AJUSTES REGLA DE GASTO'!K28 -> 0
D36: Total de Gasto computable del ejercicio | E36: Gasto computable 2024 | F36: Gasto computable 2024
E37: ='DATOS Y AJUSTES REGLA DE GASTO'!D39 -> 0 | F37: =SUM(F28:F30) -> 0
D38: (-) Inversiones Financieramente sostenibles(IFS) | E38: IFS 2024 | F38: IFS 2024
E39: ='DATOS Y AJUSTES REGLA DE GASTO'!D41 -> 0 | F39: ='DATOS Y AJUSTES REGLA DE GASTO'!M33 -> 0
D40: Total de Gasto computable del ejercicio, ajustado IFS | E40: Gasto computable 2024, ajustado IFS | F40: Gasto computable 2024, ajustado IFS
E41: ='DATOS Y AJUSTES REGLA DE GASTO'!D43 -> 0 | F41: =F37+F39 -> 0
D42: Gasto computable Liq. 2024 ajustado IFS 2024 incrementado por la Tasa de referencia del crecimiento del PIB para 2025(2,8 %) (a) | F42: =SUM(E41*1.028) -> 0
D43: (-/+) Incrementos/disminuciones de recaudación por cambios normativos considerados en elLiquidacion 2025 (art.12.4) (b) | F43: =SUM(F44:F45) -> 0
D44: (+)Detalle de incrementos: | F44: ='DATOS Y AJUSTES REGLA DE GASTO'!L38 -> 0
D45: (-) Detalle de disminuciones: | F45: ='DATOS Y AJUSTES REGLA DE GASTO'!L39 -> 0
D46: Limite de la Regla de gasto ( a +/-b) ) | F46: =SUM(F42:F43) -> 0
D47: CUMPLIMIENTO/INCUMPLIMIENTO REGLA DE GASTO (La Liquidacion de 2025 cumplirá la regla de gasto :(( GC2024 ajustado por IFS 2024 * 2,8 %) +/- Inc/Dis Norm 2025)>(GC 2025 -IFS 2025 ) | F47: =IF(F46>= F41,"CUMPLE","INCUMPLE") -> CUMPLE
...

Sheet Formulario F.3.3
D3: Se debe tener en cuenta que los datos aparecen cumplimentados automáticamente porque se recogen de las pestañas anteriores y se parte de que la Entidad es única (sin entes dependientes). Si existen entes dependientes consultar notas incluidas en el modelo de informe
C8: F.3.3- Informe actualizado de cumplimiento de la Regla del Gasto.
E11: LIQUIDACIÓN DE LOS PRESUPUESTOS DE LAS ENTIDADES LOCALES PARA 2025
C13: Entidad | D13: Gasto máximo admisible Regla de Gasto | K13: Gasto computable Liquidación 2025 (GC2025) (6)
D14: Gasto computable Liq. 2024 sin IFS (GC2024) (1) | E14: Gasto inversiones financieramente sostenibles L- 2024 (11) | F14: ((1)-(11)) * (1+TRCPIB ) (2) | G14: Aumentos/ disminuciones (art.12.4) Pto. Act. 2025 (IncNorm2025) (3) | H14: Gasto inversiones financieramente sostenibles L-2025 (4) | I14: Límite de la Regla Gasto (5)=(2)+(3)
C15: AYUNTAMIENTO DE | D15: ='REGLA DE GASTO'!E37 -> 0 | E15: ='REGLA DE GASTO'!E39 -> 0 | F15: ='REGLA DE GASTO'!F42 -> 0 | G15: ='REGLA DE GASTO'!F43 -> 0 | H15: ='DATOS Y AJUSTES REGLA DE GASTO'!M33 -> 0 | I15: ='REGLA DE GASTO'!F46 -> 0 | K15: ='REGLA DE GASTO'!F41 -> 0
C16: Entidad presupuesto limitativo
C17: Entes con contabilidad empresarial
C20: Total de Gasto Computable ejercicio | D20: =D15 -> 0 | E20: =E15 -> 0 | F20: =F15 -> 0 | G20: =G15 -> 0 | H20: =H15 -> 0 | I20: =I15 -> 0 | K20: =K15 -> 0
F22: Diferencia entre el "Limite de la Regla del Gasto " y el "Gasto computable Liquid.2024 (GC2024) " (5)-(6) | K22: ='REGLA DE GASTO'!F48 -> 0
H23: % incremento gasto computable 2024 s/ 2017 | K23: ='REGLA DE GASTO'!F49 -> #DIV/0!
C27: LA CORPORACIÓN CUMPLE/NO CUMPLE CON EL OBJETIVO DE LA REGLA DEL GASTO de acuerdo con LO 2/2012. Esta valoración es sin perjuicio del cumplimiento o incumplimiento establecido en el Plan Económico Financiero (PEF) | K27: ='REGLA DE GASTO'!F47 -> CUMPLE
C29: Observaciones y/o consideraciones al Cumplimiento/Incumplimiento de la Regla del Gasto de la Corporación Local :
B32: Notas:
C33: Los campos rellenos los cumplimenta el
C34: sistema, y no son modificables por el
C35: usuario.
B36: (1) | C36: (GC2024) Gasto computable en la liquidación del presupuesto del ejercicio 2024 (no se han restado las IFS 2024). Se toma de los formularios F.1.1.B2 o F.1.2.B2 de L-2024
B37: (11) | C37: Importe de las Inversiones financieramente sostenibles L-2024 que disminuyen el gasto computable 20247. Se toma de los formularios F.1.1.B2 o F.1.2.B2 de L-20247.
B38: (2) | C38: (TRCPIB) Tasa de referencia de crecimiento del Producto Interior Bruto (para el ejercicio 2025 es el 2,8%).
B39: (3) | C39: (IncNorm2025) Aumentos/disminuciones permanentes de recaudación por cambios normativos en la Estimación de Previsiones definitivas final del ejercicio 2025.
B40: (4) | C40: Importe de las Inversiones financieramente sostenibles L-2025 que disminuyen el gasto computable 2025
B41: (6) | C41: (GC2025) Gasto computable en la Liquidación del ejercicio 2025 (en aplicación de la DA 6ª de la LO 2/2012 se elimina el valor absoluto de las Inversiones Financieramente sostenibles del GC2025

Sheet NIVEL DE DEUDA 
G4: MUY IMPORTANTE: Aunque no se incluyan datos en alguna celda NO eliminar celdas ,pues de hacerlo los cálculos serán incorrectos
F6: Este modelo esta diseñado para el supuesto de que la Entidad es única (sin entidades dependientes). Si existen entidades dependientes, el cálculo del volumen de capital vivo se tendrá considerando la deuda y los ingresos corrientes de la entidad y la de todas las entidades dependientes clasificadas como Administración Pública.
E8: A) NIVEL DEUDA EXISTENTE A 31-12-2025
E9: Deuda a corto plazo (operaciones de tesorería )
E10: Deuda a largo plazo: | G10: =SUM(G11:G18) -> 0
F11: Emisiones de deuda
F12: Operaciones con entidades de crédito
F13: Factoring sin recursos
F14: Deuda con Administraciones publicas (exclusivamente FFEL) (1)
F15: Arrendamiento financiero
F16: Asociaciones público-privadas
F17: Pagos aplazados por operaciones con terceros
F18: Otras operaciones de crédito
E19: Total Deuda viva PDE | G19: =G9+G10 -> 0
E20: Endeudamiento a efectos de la aplicación del régimen de autorización recogido en el artículo 53 TRLRHL y DF 31ª LPGE 2013
E21: Total Deuda viva PDE | G21: =G19 -> 0
E22: Riesgo deducido de los avales
E23: Deuda formalizada disponible y no dispuesta
E24: Deuda con administraciones Públicas | G24: =G25+G28+G29+G30+G31+G32 -> 0
F25: Con la Administración General del Estado | G25: =G26+G27 -> 0
F26: Préstamos concedidos a la entidad local (se incluyen anticipos reintegrables)
F27: Otros
F28: Con la Comunidad Autónoma (se incluyen anticipos reintegrables)
F29: Con la Diputación Provincial(se incluyen anticipos reintegrables)
F30: Con la Seguridad Social (acuerdos de aplazamiento y/o fraccionamiento)
F31: Con la AEAT (acuerdos de aplazamiento y/o fraccionamiento)
F32: Con otras Administraciones Publicas
E33: Otras deudas
E34: Total deuda viva a efectos del régimen de autorización | G34: =G21+G22+G23+G24+G33 -> 0
E35: B) INGRESOS CORRIENTES LIQUIDADOS 2025
E36: a) Derechos netos liquidados ultimo ejercicio por operaciones corriente (Cap. I a V)
E37: b) -Derechos liquidados de los capítulos I a V afectados a operaciones de capital y cualesquiera otros ingresos extraordinarios aplicados a dichos capítulos que, por su afectación legal y/o carácter no recurrente no tienen la consideración de ingresos ordinarios.
E38: TOTAL INGRESOS AJUSTADOS (a-b) | G38: =G36+G37 -> 0
E39: C) PORCENTAJE DEUDA/INGRESOS CORRIENTES | G39: =G34/G38 -> #DIV/0!

Sheet Formulario F.3.4
G3: MUY IMPORTANTE: Aunque no se incluyan datos en alguna celda NO eliminar celdas ,pues de hacerlo los cálculos serán incorrectos
C6: Se debe tener en cuenta que los datos aparecen cumplimentados automáticamente porque se recogen de la pestaña anterior y se parte de que la Entidad es única (sin entes dependientes). Si existen entes dependientes consultar notas incluidas en el modelo de informe
C7: F.3.4- Informe del nivel de deuda viva a 31-12-2025
F9: LIQUIDACIÓN DE LOS PRESUPUESTOS DE LAS ENTIDADES LOCALES PARA 2025
C10: Endeudamiento a efectos del Protocolo del Procedimiento de Déficit Excesivo (Deuda PDE) | N10: (importes en €)
C11: Entidad | E11: Deuda viva a 31-12-2025
E12: Deuda a corto plazo | F12: Emisiones de deuda | G12: Operaciones con Entidades de crédito | H12: Factoring sin recurso | I12: Arrendamiento financiero | J12: Asociaciones público privadas | K12: Pagos aplazados por operaciones con terceros | L12: Otras operaciones de crédito | M12: Con Administraciones publicas (FFEL) | N12: Total Deuda viva a 31-12-2025
C13: Ayuntamiento de______________ | E13: ='NIVEL DE DEUDA '!$G$9 -> 0 | F13: ='NIVEL DE DEUDA '!$G$11 -> 0 | G13: ='NIVEL DE DEUDA '!$G$12 -> 0 | H13: ='NIVEL DE DEUDA '!$G$13 -> 0 | I13: ='NIVEL DE DEUDA '!$G$15 -> 0 | J13: ='NIVEL DE DEUDA '!$G$16 -> 0 | K13: ='NIVEL DE DEUDA '!$G$17 -> 0 | L13: ='NIVEL DE DEUDA '!$G$18 -> 0 | M13: ='NIVEL DE DEUDA '!$G$14 -> 0 | N13: =SUM(E13:M13) -> 0
C14: Entes con Presupuestos Limitativo
C15: Entes con contabilidad empresarial
C21: Total Corporación Local
L23: Total Deuda viva PDE | N23: =N13 -> 0
C26: Observaciones y/o consideraciones al Nivel de Deuda previsto a 31-12-2025 de la Corporación Local :
C31: Notas
C32: (1) En las deudas con las Administraciones Públicas únicamente se incluirán los préstamos con el Fondo de Financiación a Entidades Locales, que incluye el Fondo de Impulso Económico, el Fondo de Ordenación y el Fondo en liquidación para la financiación de los Pagos a Proveedores de EELL,en este ultimo tanto si se han instrumentado través de una operación de endeudamiento, como a través de la participación en los tributos del Estado (PTE).

Sheet Hoja1
